{
 "currentVersion": 10.91,
 "serviceDescription": "GISData/Greene_2023_rgb_20x_sid",
 "name": "GISData/Greene_2023_rgb_20x_sid",
 "description": "",
 "extent": {
  "xmin": 1512500,
  "ymin": 565000,
  "xmax": 1647500,
  "ymax": 680000,
  "spatialReference": {
   "wkid": 3754,
   "latestWkid": 3754
  }
 },
 "initialExtent": {
  "xmin": 1512500,
  "ymin": 565000,
  "xmax": 1647500,
  "ymax": 680000,
  "spatialReference": {
   "wkid": 3754,
   "latestWkid": 3754
  }
 },
 "fullExtent": {
  "xmin": 1512500,
  "ymin": 565000,
  "xmax": 1647500,
  "ymax": 680000,
  "spatialReference": {
   "wkid": 3754,
   "latestWkid": 3754
  }
 },
 "hasMultidimensions": false,
 "pixelSizeX": 0.5,
 "pixelSizeY": 0.5,
 "datasetFormat": "MrSID",
 "uncompressedSize": 186300000000,
 "blockWidth": 1024,
 "blockHeight": 128,
 "compressionType": "Wavelet (MG3)",
 "bandNames": [
  "Band_1",
  "Band_2",
  "Band_3"
 ],
 "allowCopy": true,
 "allowAnalysis": true,
 "bandCount": 3,
 "pixelType": "U8",
 "minPixelSize": 0,
 "maxPixelSize": 0,
 "copyrightText": "",
 "serviceDataType": "esriImageServiceDataTypeRGB",
 "serviceSourceType": "esriImageServiceSourceTypeDataset",
 "minValues": [
  0,
  0,
  0
 ],
 "maxValues": [
  255,
  255,
  255
 ],
 "meanValues": [
  151.93296809662,
  142.66486001469,
  122.18625513461
 ],
 "stdvValues": [
  67.0839123405,
  67.154458308855,
  73.265333811806
 ],
 "objectIdField": "",
 "fields": [],
 "capabilities": "Image,Metadata,Mensuration",
 "defaultMosaicMethod": "Center",
 "allowedMosaicMethods": "",
 "sortField": "",
 "sortValue": null,
 "sortAscending": true,
 "mosaicOperator": "First",
 "defaultCompressionQuality": 75,
 "defaultResamplingMethod": "Bilinear",
 "maxImageHeight": 4100,
 "maxImageWidth": 15000,
 "allowRasterFunction": true,
 "rasterFunctionInfos": [
  {
   "name": "None",
   "description": "",
   "help": ""
  }
 ],
 "rasterTypeInfos": [
  {
   "name": "Raster Dataset",
   "description": "Supports all ArcGIS Raster Datasets",
   "help": ""
  }
 ],
 "mensurationCapabilities": "Basic",
 "hasHistograms": true,
 "hasColormap": false,
 "hasRasterAttributeTable": false,
 "minScale": 0,
 "maxScale": 0,
 "exportTilesAllowed": false,
 "supportsStatistics": false,
 "supportsAdvancedQueries": false,
 "editFieldsInfo": null,
 "ownershipBasedAccessControlForRasters": null,
 "allowComputeTiePoints": false,
 "useStandardizedQueries": true,
 "advancedQueryCapabilities": {
  "useStandardizedQueries": true,
  "supportsStatistics": false,
  "supportsOrderBy": false,
  "supportsDistinct": false,
  "supportsPagination": false
 },
 "spatialReference": {
  "wkid": 3754,
  "latestWkid": 3754
 }
}