{
 "currentVersion": 10.91,
 "serviceDescription": "Montgomery County 2022 orthophoto",
 "name": "GISData/MontCo_2022_Ortho",
 "description": "Montgomery County 2022 orthophoto",
 "extent": {
  "xmin": 1406250,
  "ymin": 572500,
  "xmax": 1533750,
  "ymax": 711250,
  "spatialReference": {
   "wkid": 3754,
   "latestWkid": 3754
  }
 },
 "initialExtent": {
  "xmin": 1406250,
  "ymin": 572500,
  "xmax": 1533750,
  "ymax": 711250,
  "spatialReference": {
   "wkid": 3754,
   "latestWkid": 3754
  }
 },
 "fullExtent": {
  "xmin": 1406250,
  "ymin": 572500,
  "xmax": 1533750,
  "ymax": 711250,
  "spatialReference": {
   "wkid": 3754,
   "latestWkid": 3754
  }
 },
 "hasMultidimensions": false,
 "pixelSizeX": 0.25,
 "pixelSizeY": 0.25,
 "datasetFormat": "MrSID",
 "uncompressedSize": 849150000000,
 "blockWidth": 1024,
 "blockHeight": 128,
 "compressionType": "Wavelet (MG3)",
 "bandNames": [
  "Band_1",
  "Band_2",
  "Band_3"
 ],
 "allowCopy": true,
 "allowAnalysis": true,
 "bandCount": 3,
 "pixelType": "U8",
 "minPixelSize": 0,
 "maxPixelSize": 0,
 "copyrightText": "",
 "serviceDataType": "esriImageServiceDataTypeRGB",
 "serviceSourceType": "esriImageServiceSourceTypeDataset",
 "minValues": [
  0,
  0,
  0
 ],
 "maxValues": [
  255,
  255,
  255
 ],
 "meanValues": [
  120.80960849197,
  120.22373693568,
  104.20722666386
 ],
 "stdvValues": [
  42.086246014085,
  40.90226970018,
  45.163207660643
 ],
 "objectIdField": "",
 "fields": [],
 "capabilities": "Mensuration,Image,Metadata",
 "defaultMosaicMethod": "Center",
 "allowedMosaicMethods": "",
 "sortField": "",
 "sortValue": null,
 "sortAscending": true,
 "mosaicOperator": "First",
 "defaultCompressionQuality": 75,
 "defaultResamplingMethod": "Bilinear",
 "maxImageHeight": 4100,
 "maxImageWidth": 15000,
 "allowRasterFunction": true,
 "rasterFunctionInfos": [
  {
   "name": "None",
   "description": "",
   "help": ""
  }
 ],
 "rasterTypeInfos": [
  {
   "name": "Raster Dataset",
   "description": "Supports all ArcGIS Raster Datasets",
   "help": ""
  }
 ],
 "mensurationCapabilities": "Basic",
 "hasHistograms": true,
 "hasColormap": false,
 "hasRasterAttributeTable": false,
 "minScale": 0,
 "maxScale": 0,
 "exportTilesAllowed": false,
 "supportsStatistics": false,
 "supportsAdvancedQueries": false,
 "editFieldsInfo": null,
 "ownershipBasedAccessControlForRasters": null,
 "allowComputeTiePoints": false,
 "useStandardizedQueries": true,
 "advancedQueryCapabilities": {
  "useStandardizedQueries": true,
  "supportsStatistics": false,
  "supportsOrderBy": false,
  "supportsDistinct": false,
  "supportsPagination": false
 },
 "spatialReference": {
  "wkid": 3754,
  "latestWkid": 3754
 }
}
